BEGIN:VCALENDAR
VERSION:2.0
PRODID:-//The O&#039;Gorman Garden - ECPv6.15.20//NONSGML v1.0//EN
CALSCALE:GREGORIAN
METHOD:PUBLISH
X-ORIGINAL-URL:https://ogormangarden.org
X-WR-CALDESC:Events for The O&#039;Gorman Garden
REFRESH-INTERVAL;VALUE=DURATION:PT1H
X-Robots-Tag:noindex
X-PUBLISHED-TTL:PT1H
BEGIN:VTIMEZONE
TZID:America/New_York
BEGIN:DAYLIGHT
TZOFFSETFROM:-0500
TZOFFSETTO:-0400
TZNAME:EDT
DTSTART:20180311T070000
END:DAYLIGHT
BEGIN:STANDARD
TZOFFSETFROM:-0400
TZOFFSETTO:-0500
TZNAME:EST
DTSTART:20181104T060000
END:STANDARD
BEGIN:DAYLIGHT
TZOFFSETFROM:-0500
TZOFFSETTO:-0400
TZNAME:EDT
DTSTART:20190310T070000
END:DAYLIGHT
BEGIN:STANDARD
TZOFFSETFROM:-0400
TZOFFSETTO:-0500
TZNAME:EST
DTSTART:20191103T060000
END:STANDARD
BEGIN:DAYLIGHT
TZOFFSETFROM:-0500
TZOFFSETTO:-0400
TZNAME:EDT
DTSTART:20200308T070000
END:DAYLIGHT
BEGIN:STANDARD
TZOFFSETFROM:-0400
TZOFFSETTO:-0500
TZNAME:EST
DTSTART:20201101T060000
END:STANDARD
END:VTIMEZONE
BEGIN:VEVENT
DTSTART;VALUE=DATE:20190905
DTEND;VALUE=DATE:20190906
DTSTAMP:20260421T114557
CREATED:20190823T131933Z
LAST-MODIFIED:20190823T132116Z
UID:827-1567641600-1567727999@ogormangarden.org
SUMMARY:Back to School - The O'Gorman Garden Reopens
DESCRIPTION:We can’t wait to see all your lovely\, bright faces.\nThe O’Gorman Garden starts the school year Thursday\, September 5th.  See you soon! \n 
URL:https://ogormangarden.org/event/back-to-school-the-ogorman-garden-reopens/
LOCATION:The O’Gorman Garden\, 23 West 129th Street\, New York\, 10027\, United States
END:VEVENT
END:VCALENDAR